BEGIN:VCALENDAR
VERSION:2.0
PRODID:-//Good Grief - ECPv6.15.13//NONSGML v1.0//EN
CALSCALE:GREGORIAN
METHOD:PUBLISH
X-WR-CALNAME:Good Grief
X-ORIGINAL-URL:https://good-grief.org
X-WR-CALDESC:Events for Good Grief
REFRESH-INTERVAL;VALUE=DURATION:PT1H
X-Robots-Tag:noindex
X-PUBLISHED-TTL:PT1H
BEGIN:VTIMEZONE
TZID:America/New_York
BEGIN:DAYLIGHT
TZOFFSETFROM:-0500
TZOFFSETTO:-0400
TZNAME:EDT
DTSTART:20220313T070000
END:DAYLIGHT
BEGIN:STANDARD
TZOFFSETFROM:-0400
TZOFFSETTO:-0500
TZNAME:EST
DTSTART:20221106T060000
END:STANDARD
BEGIN:DAYLIGHT
TZOFFSETFROM:-0500
TZOFFSETTO:-0400
TZNAME:EDT
DTSTART:20230312T070000
END:DAYLIGHT
BEGIN:STANDARD
TZOFFSETFROM:-0400
TZOFFSETTO:-0500
TZNAME:EST
DTSTART:20231105T060000
END:STANDARD
BEGIN:DAYLIGHT
TZOFFSETFROM:-0500
TZOFFSETTO:-0400
TZNAME:EDT
DTSTART:20240310T070000
END:DAYLIGHT
BEGIN:STANDARD
TZOFFSETFROM:-0400
TZOFFSETTO:-0500
TZNAME:EST
DTSTART:20241103T060000
END:STANDARD
END:VTIMEZONE
BEGIN:VEVENT
DTSTART;TZID=America/New_York:20230511T130000
DTEND;TZID=America/New_York:20230511T140000
DTSTAMP:20260423T063508
CREATED:20230203T195841Z
LAST-MODIFIED:20240624T205925Z
UID:5909-1683810000-1683813600@good-grief.org
SUMMARY:Community Webinar: Grief and Poetry with Chanel Brenner
DESCRIPTION:Join Good Grief for a one-hour webinar on poetry and grief with Chanel Brenner. All live attendees will receive a certificate of attendance. \nRegister here:\nhttps://us02web.zoom.us/webinar/register/WN_Y7oYrvS6SkuZnKOhzJq5FA \nChanel Brenner is the winner of the 2021 Press 53 Award for Poetry for Smile or Else. She is the author of Vanilla Milk: a memoir told in poems\, (Silver Birch Press\, 2014)\, which was a finalist for the 2016 Independent Book Awards and honorable mention in the 2014 Eric Hoffer awards. Her essays and poems have appeared in The Rumpus\, Tahoma Literary Review\, HerStry\, Barrow Street\, Literary Mama\, Modern Loss\, Mutha Magazine\, New Ohio Review\, Rattle\, Salamander\, Spoon River\, The Good Men Project\, and others. Her poem\, “July 28th” won first prize in The Write Place At the Write Time’s contest\, judged by Ellen Bass\, and her poem\, “Apology\,” won first place in the Smartish Pace Beullah Rose Poetry Prize. \nGood Grief is a New Jersey-based nonprofit that builds resilience in children\, strengthens families\, and empowers communities to grow through loss and adversity. Learn more at www.good-grief.org \nThu May 11\, 2023 01:00 PM
URL:https://good-grief.org/event/community-webinar-grief-and-poetry/
LOCATION:Online
CATEGORIES:Gg Events,Gg Training,Gg Training & Webinars
ORGANIZER;CN="Good Grief":MAILTO:info@good-grief.org
END:VEVENT
END:VCALENDAR