BEGIN:VCALENDAR
VERSION:2.0
PRODID:-//Good Grief - ECPv6.15.13//NONSGML v1.0//EN
CALSCALE:GREGORIAN
METHOD:PUBLISH
X-WR-CALNAME:Good Grief
X-ORIGINAL-URL:https://good-grief.org
X-WR-CALDESC:Events for Good Grief
REFRESH-INTERVAL;VALUE=DURATION:PT1H
X-Robots-Tag:noindex
X-PUBLISHED-TTL:PT1H
BEGIN:VTIMEZONE
TZID:America/New_York
BEGIN:DAYLIGHT
TZOFFSETFROM:-0500
TZOFFSETTO:-0400
TZNAME:EDT
DTSTART:20250309T070000
END:DAYLIGHT
BEGIN:STANDARD
TZOFFSETFROM:-0400
TZOFFSETTO:-0500
TZNAME:EST
DTSTART:20251102T060000
END:STANDARD
BEGIN:DAYLIGHT
TZOFFSETFROM:-0500
TZOFFSETTO:-0400
TZNAME:EDT
DTSTART:20260308T070000
END:DAYLIGHT
BEGIN:STANDARD
TZOFFSETFROM:-0400
TZOFFSETTO:-0500
TZNAME:EST
DTSTART:20261101T060000
END:STANDARD
BEGIN:DAYLIGHT
TZOFFSETFROM:-0500
TZOFFSETTO:-0400
TZNAME:EDT
DTSTART:20270314T070000
END:DAYLIGHT
BEGIN:STANDARD
TZOFFSETFROM:-0400
TZOFFSETTO:-0500
TZNAME:EST
DTSTART:20271107T060000
END:STANDARD
END:VTIMEZONE
BEGIN:VEVENT
DTSTART;TZID=America/New_York:20260226T120000
DTEND;TZID=America/New_York:20260226T130000
DTSTAMP:20260420T112751
CREATED:20260115T161033Z
LAST-MODIFIED:20260115T162815Z
UID:8457-1772107200-1772110800@good-grief.org
SUMMARY:Free Webinar: Strengthening the Five Protective Factors Through Grief
DESCRIPTION:Presenter: Annette Mendez \nThis webinar examines how the Five Protective Factors can be strengthened to support grieving children\, teens\, and families. Participants will explore how grief affects each factor\, learn to identify unmet needs\, and gain practical strategies for nurturing these protective factors in conversations and everyday environments. \nAnnette Mendez (she/her) is the Training and Curriculum Manager at Good Grief and a former educator and special services/mental health coordinator. Originally from Puerto Rico and Newark\, New Jersey\, she is a Certified Grief Educator trained by David Kessler and is deeply committed to ensuring that grief education is culturally responsive and honors the full identities of those it serves. Annette is a mother to three children\, ages 19\, 11\, and 9\, a proud product of New Jersey public schools\, and a first-generation college graduate. She holds a BA and a master’s certification from Montclair State University (Go Red Hawks!) and is a lifelong fan of Mr. Rogers. \nRegistration Link:\nhttps://us02web.zoom.us/webinar/register/WN_zpAbh2UQRp2NZJGzQhiVvQhttps://us02web.zoom.us/webinar/register/WN_LxOB2mwAS2WVx69tCavV3A#/registration
URL:https://good-grief.org/event/free-webinar-strengthening-the-five-protective-factors-through-grief/
LOCATION:Online
CATEGORIES:Gg Events,Gg Training & Webinars
ATTACH;FMTTYPE=image/jpeg:https://good-grief.org/wp-content/uploads/Gg_Webinar-Posts_Winter-2026_Feb26.jpg
ORGANIZER;CN="Good Grief":MAILTO:info@good-grief.org
END:VEVENT
END:VCALENDAR