BEGIN:VCALENDAR
VERSION:2.0
PRODID:-//Good Grief - ECPv6.15.13//NONSGML v1.0//EN
CALSCALE:GREGORIAN
METHOD:PUBLISH
X-WR-CALNAME:Good Grief
X-ORIGINAL-URL:https://good-grief.org
X-WR-CALDESC:Events for Good Grief
REFRESH-INTERVAL;VALUE=DURATION:PT1H
X-Robots-Tag:noindex
X-PUBLISHED-TTL:PT1H
BEGIN:VTIMEZONE
TZID:America/New_York
BEGIN:DAYLIGHT
TZOFFSETFROM:-0500
TZOFFSETTO:-0400
TZNAME:EDT
DTSTART:20170312T070000
END:DAYLIGHT
BEGIN:STANDARD
TZOFFSETFROM:-0400
TZOFFSETTO:-0500
TZNAME:EST
DTSTART:20171105T060000
END:STANDARD
BEGIN:DAYLIGHT
TZOFFSETFROM:-0500
TZOFFSETTO:-0400
TZNAME:EDT
DTSTART:20180311T070000
END:DAYLIGHT
BEGIN:STANDARD
TZOFFSETFROM:-0400
TZOFFSETTO:-0500
TZNAME:EST
DTSTART:20181104T060000
END:STANDARD
BEGIN:DAYLIGHT
TZOFFSETFROM:-0500
TZOFFSETTO:-0400
TZNAME:EDT
DTSTART:20190310T070000
END:DAYLIGHT
BEGIN:STANDARD
TZOFFSETFROM:-0400
TZOFFSETTO:-0500
TZNAME:EST
DTSTART:20191103T060000
END:STANDARD
END:VTIMEZONE
BEGIN:VEVENT
DTSTART;TZID=America/New_York:20180802T120000
DTEND;TZID=America/New_York:20180802T131500
DTSTAMP:20260423T141513
CREATED:20180627T205904Z
LAST-MODIFIED:20180627T205904Z
UID:3071-1533211200-1533215700@good-grief.org
SUMMARY:Good Grief Tour: Morristown
DESCRIPTION:Registration required. \nMembers of the community can get an introduction to our mission\, programs\, and facilities by attending one of our impactful open houses. If you are considering finding a way to get involved with Good Grief\, whether as a volunteer\, donor\, or advocate in the community a tour of our center is the best way to find out more\, ask questions\, meet staff\, and become a part of our community. Tours are approximately 75 minutes long and offer a quick\, but thorough introduction to all things Good Grief! \nTo sign up for this tour\, please contact christina@good-grief.org and include the date of the tour in the subject.
URL:https://good-grief.org/event/good-grief-tour-morristown-16/
LOCATION:Good Grief Morristown\, 38 Elm Street\, Morristown\, NJ\, 07960\, United States
CATEGORIES:Gg Tour
ORGANIZER;CN="Good Grief":MAILTO:info@good-grief.org
END:VEVENT
BEGIN:VEVENT
DTSTART;TZID=America/New_York:20180807T170000
DTEND;TZID=America/New_York:20180807T181500
DTSTAMP:20260423T141513
CREATED:20180628T123703Z
LAST-MODIFIED:20180628T123703Z
UID:3092-1533661200-1533665700@good-grief.org
SUMMARY:Good Grief Tour: Princeton
DESCRIPTION:Registration required. \nMembers of the community can get an introduction to our mission\, programs\, and facilities by attending one of our impactful open houses. If you are considering finding a way to get involved with Good Grief\, whether as a volunteer\, donor\, or advocate in the community a tour of our center is the best way to find out more\, ask questions\, meet staff\, and become a part of our community. Tours are approximately 75 minutes long and offer a quick\, but thorough introduction to all things Good Grief! \nTo sign up for this tour\, please contact caitie@good-grief.org and include the date of the tour in the subject.
URL:https://good-grief.org/event/good-grief-tour-princeton-10/
LOCATION:Good Grief Princeton\, 5 Mapleton Road\, Princeton\, NJ\, 08540\, United States
CATEGORIES:Gg Tour
ORGANIZER;CN="Good Grief":MAILTO:info@good-grief.org
END:VEVENT
BEGIN:VEVENT
DTSTART;TZID=America/New_York:20180813T173000
DTEND;TZID=America/New_York:20180813T181500
DTSTAMP:20260423T141513
CREATED:20180628T122110Z
LAST-MODIFIED:20180628T122110Z
UID:3075-1534181400-1534184100@good-grief.org
SUMMARY:Good Grief Tour: Morristown
DESCRIPTION:Registration required. \nMembers of the community can get an introduction to our mission\, programs\, and facilities by attending one of our impactful open houses. If you are considering finding a way to get involved with Good Grief\, whether as a volunteer\, donor\, or advocate in the community a tour of our center is the best way to find out more\, ask questions\, meet staff\, and become a part of our community. Tours are approximately 75 minutes long and offer a quick\, but thorough introduction to all things Good Grief! \nTo sign up for this tour\, please contact christina@good-grief.org and include the date of the tour in the subject.
URL:https://good-grief.org/event/good-grief-tour-morristown-17/
LOCATION:Good Grief Morristown\, 38 Elm Street\, Morristown\, NJ\, 07960\, United States
CATEGORIES:Gg Tour
ORGANIZER;CN="Good Grief":MAILTO:info@good-grief.org
END:VEVENT
BEGIN:VEVENT
DTSTART;TZID=America/New_York:20180829T120000
DTEND;TZID=America/New_York:20180829T131500
DTSTAMP:20260423T141513
CREATED:20180628T123747Z
LAST-MODIFIED:20180628T123747Z
UID:3094-1535544000-1535548500@good-grief.org
SUMMARY:Good Grief Tour: Princeton
DESCRIPTION:Registration required. \nMembers of the community can get an introduction to our mission\, programs\, and facilities by attending one of our impactful open houses. If you are considering finding a way to get involved with Good Grief\, whether as a volunteer\, donor\, or advocate in the community a tour of our center is the best way to find out more\, ask questions\, meet staff\, and become a part of our community. Tours are approximately 75 minutes long and offer a quick\, but thorough introduction to all things Good Grief! \nTo sign up for this tour\, please contact caitie@good-grief.org and include the date of the tour in the subject.
URL:https://good-grief.org/event/good-grief-tour-princeton-11/
LOCATION:Good Grief Princeton\, 5 Mapleton Road\, Princeton\, NJ\, 08540\, United States
CATEGORIES:Gg Tour
ORGANIZER;CN="Good Grief":MAILTO:info@good-grief.org
END:VEVENT
END:VCALENDAR