BEGIN:VCALENDAR
VERSION:2.0
PRODID:-//Good Grief - ECPv6.15.13//NONSGML v1.0//EN
CALSCALE:GREGORIAN
METHOD:PUBLISH
X-WR-CALNAME:Good Grief
X-ORIGINAL-URL:https://good-grief.org
X-WR-CALDESC:Events for Good Grief
REFRESH-INTERVAL;VALUE=DURATION:PT1H
X-Robots-Tag:noindex
X-PUBLISHED-TTL:PT1H
BEGIN:VTIMEZONE
TZID:America/New_York
BEGIN:DAYLIGHT
TZOFFSETFROM:-0500
TZOFFSETTO:-0400
TZNAME:EDT
DTSTART:20200308T070000
END:DAYLIGHT
BEGIN:STANDARD
TZOFFSETFROM:-0400
TZOFFSETTO:-0500
TZNAME:EST
DTSTART:20201101T060000
END:STANDARD
BEGIN:DAYLIGHT
TZOFFSETFROM:-0500
TZOFFSETTO:-0400
TZNAME:EDT
DTSTART:20210314T070000
END:DAYLIGHT
BEGIN:STANDARD
TZOFFSETFROM:-0400
TZOFFSETTO:-0500
TZNAME:EST
DTSTART:20211107T060000
END:STANDARD
BEGIN:DAYLIGHT
TZOFFSETFROM:-0500
TZOFFSETTO:-0400
TZNAME:EDT
DTSTART:20220313T070000
END:DAYLIGHT
BEGIN:STANDARD
TZOFFSETFROM:-0400
TZOFFSETTO:-0500
TZNAME:EST
DTSTART:20221106T060000
END:STANDARD
END:VTIMEZONE
BEGIN:VEVENT
DTSTART;TZID=America/New_York:20211104T123000
DTEND;TZID=America/New_York:20211104T134500
DTSTAMP:20260419T172321
CREATED:20210823T211324Z
LAST-MODIFIED:20210823T211324Z
UID:5549-1636029000-1636033500@good-grief.org
SUMMARY:Good Grief Open House: Princeton
DESCRIPTION:In this 75 minute tour\, members of the community can get an introduction to our mission\, programs\, and facilities. If you are considering finding a way to get involved with Good Grief\, whether as a volunteer\, donor\, or advocate in the community a tour of our center is the best way to find out more\, ask questions\, meet staff\, and become a part of our community. \nPlease email info@good-grief.org to sign up and include the date of the tour in the subject.
URL:https://good-grief.org/event/good-grief-open-house-princeton-10/
LOCATION:Good Grief Princeton\, 5 Mapleton Road\, Princeton\, NJ\, 08540\, United States
CATEGORIES:Gg Tour
ORGANIZER;CN="Good Grief":MAILTO:info@good-grief.org
END:VEVENT
BEGIN:VEVENT
DTSTART;TZID=America/New_York:20211104T173000
DTEND;TZID=America/New_York:20211104T184500
DTSTAMP:20260419T172321
CREATED:20210823T211454Z
LAST-MODIFIED:20210823T211454Z
UID:5550-1636047000-1636051500@good-grief.org
SUMMARY:Good Grief Open House: Princeton
DESCRIPTION:In this 75 minute tour\, members of the community can get an introduction to our mission\, programs\, and facilities. If you are considering finding a way to get involved with Good Grief\, whether as a volunteer\, donor\, or advocate in the community a tour of our center is the best way to find out more\, ask questions\, meet staff\, and become a part of our community. \nPlease email info@good-grief.org to sign up and include the date of the tour in the subject.
URL:https://good-grief.org/event/good-grief-open-house-princeton-11/
LOCATION:Good Grief Princeton\, 5 Mapleton Road\, Princeton\, NJ\, 08540\, United States
CATEGORIES:Gg Tour
ORGANIZER;CN="Good Grief":MAILTO:info@good-grief.org
END:VEVENT
BEGIN:VEVENT
DTSTART;TZID=America/New_York:20211122T123000
DTEND;TZID=America/New_York:20211122T134500
DTSTAMP:20260419T172321
CREATED:20210823T211549Z
LAST-MODIFIED:20210823T211549Z
UID:5551-1637584200-1637588700@good-grief.org
SUMMARY:Good Grief Open House: Princeton
DESCRIPTION:In this 75 minute tour\, members of the community can get an introduction to our mission\, programs\, and facilities. If you are considering finding a way to get involved with Good Grief\, whether as a volunteer\, donor\, or advocate in the community a tour of our center is the best way to find out more\, ask questions\, meet staff\, and become a part of our community. \nPlease email info@good-grief.org to sign up and include the date of the tour in the subject.
URL:https://good-grief.org/event/good-grief-open-house-princeton-12/
LOCATION:Good Grief Princeton\, 5 Mapleton Road\, Princeton\, NJ\, 08540\, United States
CATEGORIES:Gg Tour
ORGANIZER;CN="Good Grief":MAILTO:info@good-grief.org
END:VEVENT
BEGIN:VEVENT
DTSTART;TZID=America/New_York:20211122T173000
DTEND;TZID=America/New_York:20211122T184500
DTSTAMP:20260419T172321
CREATED:20210823T211636Z
LAST-MODIFIED:20210823T211636Z
UID:5552-1637602200-1637606700@good-grief.org
SUMMARY:Good Grief Open House: Princeton
DESCRIPTION:In this 75 minute tour\, members of the community can get an introduction to our mission\, programs\, and facilities. If you are considering finding a way to get involved with Good Grief\, whether as a volunteer\, donor\, or advocate in the community a tour of our center is the best way to find out more\, ask questions\, meet staff\, and become a part of our community. \nPlease email info@good-grief.org to sign up and include the date of the tour in the subject.
URL:https://good-grief.org/event/good-grief-open-house-princeton-13/
LOCATION:Good Grief Princeton\, 5 Mapleton Road\, Princeton\, NJ\, 08540\, United States
CATEGORIES:Gg Tour
ORGANIZER;CN="Good Grief":MAILTO:info@good-grief.org
END:VEVENT
END:VCALENDAR