BEGIN:VCALENDAR
VERSION:2.0
PRODID:-//Good Grief - ECPv6.15.13//NONSGML v1.0//EN
CALSCALE:GREGORIAN
METHOD:PUBLISH
X-WR-CALNAME:Good Grief
X-ORIGINAL-URL:https://good-grief.org
X-WR-CALDESC:Events for Good Grief
REFRESH-INTERVAL;VALUE=DURATION:PT1H
X-Robots-Tag:noindex
X-PUBLISHED-TTL:PT1H
BEGIN:VTIMEZONE
TZID:America/New_York
BEGIN:DAYLIGHT
TZOFFSETFROM:-0500
TZOFFSETTO:-0400
TZNAME:EDT
DTSTART:20240310T070000
END:DAYLIGHT
BEGIN:STANDARD
TZOFFSETFROM:-0400
TZOFFSETTO:-0500
TZNAME:EST
DTSTART:20241103T060000
END:STANDARD
BEGIN:DAYLIGHT
TZOFFSETFROM:-0500
TZOFFSETTO:-0400
TZNAME:EDT
DTSTART:20250309T070000
END:DAYLIGHT
BEGIN:STANDARD
TZOFFSETFROM:-0400
TZOFFSETTO:-0500
TZNAME:EST
DTSTART:20251102T060000
END:STANDARD
BEGIN:DAYLIGHT
TZOFFSETFROM:-0500
TZOFFSETTO:-0400
TZNAME:EDT
DTSTART:20260308T070000
END:DAYLIGHT
BEGIN:STANDARD
TZOFFSETFROM:-0400
TZOFFSETTO:-0500
TZNAME:EST
DTSTART:20261101T060000
END:STANDARD
END:VTIMEZONE
BEGIN:VEVENT
DTSTART;TZID=America/New_York:20250403T173000
DTEND;TZID=America/New_York:20250403T183000
DTSTAMP:20260419T173759
CREATED:20250321T180700Z
LAST-MODIFIED:20250324T165109Z
UID:8090-1743701400-1743705000@good-grief.org
SUMMARY:Tour of Good Grief\, Princeton | Thursday\, April 3
DESCRIPTION:In this 60-minute tour\, members of the community can get an introduction to our mission\, programs\, and facilities. If you are considering finding a way to get involved with Good Grief\, whether as a volunteer\, donor\, or advocate in the community\, a tour of our center is the best way to find out more\, ask questions\, meet staff\, and become a part of our community. \nPLEASE NOTE: This tour is not for interested peer support program participants. Please contact one of our Family Coordinators to learn more about enrolling in our programs at https://good-grief.org/our-programs/ \nTo sign up for a tour\, please click on the website link below.
URL:https://good-grief.org/event/tour-of-good-grief-princeton-thursday-april-3/
LOCATION:Good Grief Princeton\, 5 Mapleton Road\, Princeton\, NJ\, 08540\, United States
CATEGORIES:Gg Tour
END:VEVENT
BEGIN:VEVENT
DTSTART;TZID=America/New_York:20250407T173000
DTEND;TZID=America/New_York:20250407T183000
DTSTAMP:20260419T173759
CREATED:20250321T180050Z
LAST-MODIFIED:20250321T180050Z
UID:8084-1744047000-1744050600@good-grief.org
SUMMARY:Tour of Good Grief\, Morristown | Monday\, April 7\, 2025
DESCRIPTION:In this 60-minute tour\, members of the community can get an introduction to our mission\, programs\, and facilities. If you are considering finding a way to get involved with Good Grief\, whether as a volunteer\, donor\, or advocate in the community\, a tour of our center is the best way to find out more\, ask questions\, meet staff\, and become a part of our community. \nPLEASE NOTE: This tour is not for interested peer support program participants. Please contact one of our Family Coordinators to learn more about enrolling in our programs at https://good-grief.org/our-programs/ \nTo sign up for a tour\, please click on the website link below.
URL:https://good-grief.org/event/tour-of-good-grief-morristown-monday-april-7-2025/
LOCATION:Good Grief Morristown\, 38 Elm Street\, Morristown\, NJ\, 07960\, United States
CATEGORIES:Gg Tour
ORGANIZER;CN="Kim":MAILTO:kim@good-grief.org
END:VEVENT
BEGIN:VEVENT
DTSTART;TZID=America/New_York:20250421T120000
DTEND;TZID=America/New_York:20250421T130000
DTSTAMP:20260419T173759
CREATED:20250321T180515Z
LAST-MODIFIED:20250321T180515Z
UID:8088-1745236800-1745240400@good-grief.org
SUMMARY:Tour of Good Grief\, Princeton | Monday\, April 21
DESCRIPTION:In this 60-minute tour\, members of the community can get an introduction to our mission\, programs\, and facilities. If you are considering finding a way to get involved with Good Grief\, whether as a volunteer\, donor\, or advocate in the community\, a tour of our center is the best way to find out more\, ask questions\, meet staff\, and become a part of our community. \nPLEASE NOTE: This tour is not for interested peer support program participants. Please contact one of our Family Coordinators to learn more about enrolling in our programs at https://good-grief.org/our-programs/ \nTo sign up for a tour\, please click on the website link below.
URL:https://good-grief.org/event/tour-of-good-grief-princeton-monday-april-21/
LOCATION:Good Grief Princeton\, 5 Mapleton Road\, Princeton\, NJ\, 08540\, United States
CATEGORIES:Gg Tour
END:VEVENT
BEGIN:VEVENT
DTSTART;TZID=America/New_York:20250425T120000
DTEND;TZID=America/New_York:20250425T130000
DTSTAMP:20260419T173759
CREATED:20250321T180243Z
LAST-MODIFIED:20250321T180243Z
UID:8086-1745582400-1745586000@good-grief.org
SUMMARY:Tour of Good Grief\, Morristown | Friday\, April 25\, 2025
DESCRIPTION:In this 60-minute tour\, members of the community can get an introduction to our mission\, programs\, and facilities. If you are considering finding a way to get involved with Good Grief\, whether as a volunteer\, donor\, or advocate in the community\, a tour of our center is the best way to find out more\, ask questions\, meet staff\, and become a part of our community. \nPLEASE NOTE: This tour is not for interested peer support program participants. Please contact one of our Family Coordinators to learn more about enrolling in our programs at https://good-grief.org/our-programs/ \nTo sign up for a tour\, please click on the website link below.
URL:https://good-grief.org/event/tour-of-good-grief-morristown-friday-april-25-2025/
LOCATION:Good Grief Morristown\, 38 Elm Street\, Morristown\, NJ\, 07960\, United States
CATEGORIES:Gg Tour
ORGANIZER;CN="Kim":MAILTO:kim@good-grief.org
END:VEVENT
END:VCALENDAR