BEGIN:VCALENDAR
VERSION:2.0
PRODID:-//Good Grief - ECPv6.15.13//NONSGML v1.0//EN
CALSCALE:GREGORIAN
METHOD:PUBLISH
X-WR-CALNAME:Good Grief
X-ORIGINAL-URL:https://good-grief.org
X-WR-CALDESC:Events for Good Grief
REFRESH-INTERVAL;VALUE=DURATION:PT1H
X-Robots-Tag:noindex
X-PUBLISHED-TTL:PT1H
BEGIN:VTIMEZONE
TZID:America/New_York
BEGIN:DAYLIGHT
TZOFFSETFROM:-0500
TZOFFSETTO:-0400
TZNAME:EDT
DTSTART:20160313T070000
END:DAYLIGHT
BEGIN:STANDARD
TZOFFSETFROM:-0400
TZOFFSETTO:-0500
TZNAME:EST
DTSTART:20161106T060000
END:STANDARD
BEGIN:DAYLIGHT
TZOFFSETFROM:-0500
TZOFFSETTO:-0400
TZNAME:EDT
DTSTART:20170312T070000
END:DAYLIGHT
BEGIN:STANDARD
TZOFFSETFROM:-0400
TZOFFSETTO:-0500
TZNAME:EST
DTSTART:20171105T060000
END:STANDARD
BEGIN:DAYLIGHT
TZOFFSETFROM:-0500
TZOFFSETTO:-0400
TZNAME:EDT
DTSTART:20180311T070000
END:DAYLIGHT
BEGIN:STANDARD
TZOFFSETFROM:-0400
TZOFFSETTO:-0500
TZNAME:EST
DTSTART:20181104T060000
END:STANDARD
END:VTIMEZONE
BEGIN:VEVENT
DTSTART;TZID=America/New_York:20170327T180000
DTEND;TZID=America/New_York:20170327T191500
DTSTAMP:20260424T113730
CREATED:20161205T185137Z
LAST-MODIFIED:20161205T185137Z
UID:1278-1490637600-1490642100@good-grief.org
SUMMARY:Good Grief Tour: Morristown
DESCRIPTION:To sign up for this tour\, please contact rachel@good-grief.org and include the date of the tour in the subject. \nMembers of the community can get an introduction to our mission\, programs\, and facilities by attending one of our impactful open houses. If you are considering finding a way to get involved with Good Grief\, whether as a volunteer\, donor\, or advocate in the community a tour of our center is the best way to find out more\, ask questions\, meet staff\, and become a part of our community. Tours are approximately 75 minutes long and offer a quick\, but thorough introduction to all things Good Grief!
URL:https://good-grief.org/event/good-grief-tour-morristown-mar-27/
LOCATION:Good Grief Morristown\, 38 Elm Street\, Morristown\, NJ\, 07960\, United States
CATEGORIES:Gg Tour
END:VEVENT
END:VCALENDAR