BEGIN:VCALENDAR
VERSION:2.0
PRODID:-//Good Grief - ECPv6.15.13//NONSGML v1.0//EN
CALSCALE:GREGORIAN
METHOD:PUBLISH
X-WR-CALNAME:Good Grief
X-ORIGINAL-URL:https://good-grief.org
X-WR-CALDESC:Events for Good Grief
REFRESH-INTERVAL;VALUE=DURATION:PT1H
X-Robots-Tag:noindex
X-PUBLISHED-TTL:PT1H
BEGIN:VTIMEZONE
TZID:America/New_York
BEGIN:DAYLIGHT
TZOFFSETFROM:-0500
TZOFFSETTO:-0400
TZNAME:EDT
DTSTART:20180311T070000
END:DAYLIGHT
BEGIN:STANDARD
TZOFFSETFROM:-0400
TZOFFSETTO:-0500
TZNAME:EST
DTSTART:20181104T060000
END:STANDARD
BEGIN:DAYLIGHT
TZOFFSETFROM:-0500
TZOFFSETTO:-0400
TZNAME:EDT
DTSTART:20190310T070000
END:DAYLIGHT
BEGIN:STANDARD
TZOFFSETFROM:-0400
TZOFFSETTO:-0500
TZNAME:EST
DTSTART:20191103T060000
END:STANDARD
BEGIN:DAYLIGHT
TZOFFSETFROM:-0500
TZOFFSETTO:-0400
TZNAME:EDT
DTSTART:20200308T070000
END:DAYLIGHT
BEGIN:STANDARD
TZOFFSETFROM:-0400
TZOFFSETTO:-0500
TZNAME:EST
DTSTART:20201101T060000
END:STANDARD
END:VTIMEZONE
BEGIN:VEVENT
DTSTART;TZID=America/New_York:20191021T173000
DTEND;TZID=America/New_York:20191021T184500
DTSTAMP:20260422T212407
CREATED:20190813T175456Z
LAST-MODIFIED:20190813T175456Z
UID:3924-1571679000-1571683500@good-grief.org
SUMMARY:Good Grief Tour: Princeton
DESCRIPTION:Registration required. \nMembers of the community can get an introduction to our mission\, programs\, and facilities by attending one of our impactful open houses. If you are considering finding a way to get involved with Good Grief\, whether as a volunteer\, donor\, or advocate in the community a tour of our center is the best way to find out more\, ask questions\, meet staff\, and become a part of our community. Tours are approximately 75 minutes long and offer a quick\, but thorough introduction to all things Good Grief! \nTo sign up for this tour\, please contact caitie@good-grief.org and include the date of the tour in the subject.
URL:https://good-grief.org/event/good-grief-tour-princeton-27/
LOCATION:NJ
CATEGORIES:Gg Tour
END:VEVENT
END:VCALENDAR