BEGIN:VCALENDAR
VERSION:2.0
PRODID:-//Good Grief - ECPv6.15.13//NONSGML v1.0//EN
CALSCALE:GREGORIAN
METHOD:PUBLISH
X-WR-CALNAME:Good Grief
X-ORIGINAL-URL:https://good-grief.org
X-WR-CALDESC:Events for Good Grief
REFRESH-INTERVAL;VALUE=DURATION:PT1H
X-Robots-Tag:noindex
X-PUBLISHED-TTL:PT1H
BEGIN:VTIMEZONE
TZID:America/New_York
BEGIN:DAYLIGHT
TZOFFSETFROM:-0500
TZOFFSETTO:-0400
TZNAME:EDT
DTSTART:20200308T070000
END:DAYLIGHT
BEGIN:STANDARD
TZOFFSETFROM:-0400
TZOFFSETTO:-0500
TZNAME:EST
DTSTART:20201101T060000
END:STANDARD
BEGIN:DAYLIGHT
TZOFFSETFROM:-0500
TZOFFSETTO:-0400
TZNAME:EDT
DTSTART:20210314T070000
END:DAYLIGHT
BEGIN:STANDARD
TZOFFSETFROM:-0400
TZOFFSETTO:-0500
TZNAME:EST
DTSTART:20211107T060000
END:STANDARD
BEGIN:DAYLIGHT
TZOFFSETFROM:-0500
TZOFFSETTO:-0400
TZNAME:EDT
DTSTART:20220313T070000
END:DAYLIGHT
BEGIN:STANDARD
TZOFFSETFROM:-0400
TZOFFSETTO:-0500
TZNAME:EST
DTSTART:20221106T060000
END:STANDARD
END:VTIMEZONE
BEGIN:VEVENT
DTSTART;TZID=America/New_York:20210621T173000
DTEND;TZID=America/New_York:20210621T184500
DTSTAMP:20260421T182225
CREATED:20210409T190033Z
LAST-MODIFIED:20210409T190033Z
UID:5449-1624296600-1624301100@good-grief.org
SUMMARY:Good Grief Open House: Morristown
DESCRIPTION:Registration Required \nIn this 75 minute tour\, members of the community can get an introduction to our mission\, programs\, and facilities. If you are considering finding a way to get involved with Good Grief\, whether as a volunteer\, donor\, or advocate in the community a tour of our center is the best way to find out more\, ask questions\, meet staff\, and become a part of our community.  \nPlease email info@good-grief.org to sign up and include the date of the tour in the subject.
URL:https://good-grief.org/event/good-grief-open-house-6/
LOCATION:Good Grief Morristown\, 38 Elm Street\, Morristown\, NJ\, 07960\, United States
CATEGORIES:Gg Tour
ORGANIZER;CN="Good Grief":MAILTO:info@good-grief.org
END:VEVENT
END:VCALENDAR