BEGIN:VCALENDAR
VERSION:2.0
PRODID:-//Good Grief - ECPv6.15.13//NONSGML v1.0//EN
CALSCALE:GREGORIAN
METHOD:PUBLISH
X-WR-CALNAME:Good Grief
X-ORIGINAL-URL:https://good-grief.org
X-WR-CALDESC:Events for Good Grief
REFRESH-INTERVAL;VALUE=DURATION:PT1H
X-Robots-Tag:noindex
X-PUBLISHED-TTL:PT1H
BEGIN:VTIMEZONE
TZID:America/New_York
BEGIN:DAYLIGHT
TZOFFSETFROM:-0500
TZOFFSETTO:-0400
TZNAME:EDT
DTSTART:20220313T070000
END:DAYLIGHT
BEGIN:STANDARD
TZOFFSETFROM:-0400
TZOFFSETTO:-0500
TZNAME:EST
DTSTART:20221106T060000
END:STANDARD
BEGIN:DAYLIGHT
TZOFFSETFROM:-0500
TZOFFSETTO:-0400
TZNAME:EDT
DTSTART:20230312T070000
END:DAYLIGHT
BEGIN:STANDARD
TZOFFSETFROM:-0400
TZOFFSETTO:-0500
TZNAME:EST
DTSTART:20231105T060000
END:STANDARD
BEGIN:DAYLIGHT
TZOFFSETFROM:-0500
TZOFFSETTO:-0400
TZNAME:EDT
DTSTART:20240310T070000
END:DAYLIGHT
BEGIN:STANDARD
TZOFFSETFROM:-0400
TZOFFSETTO:-0500
TZNAME:EST
DTSTART:20241103T060000
END:STANDARD
END:VTIMEZONE
BEGIN:VEVENT
DTSTART;TZID=America/New_York:20231012T120000
DTEND;TZID=America/New_York:20231012T130000
DTSTAMP:20260422T224400
CREATED:20240529T171842Z
LAST-MODIFIED:20240624T205724Z
UID:6754-1697112000-1697115600@good-grief.org
SUMMARY:Community Webinar: Ambiguous Grief and Non-Death Loss with Litsa Williams of What's Your Grief
DESCRIPTION:Grief is the normal and natural reaction to any significant loss\, whether that is a bereavement loss or a non-death loss. From coping with divorce or loss of job to losing a loved on to dementia\, incarceration\, foster care or addiction\, therapists and other professionals are often supporting those dealing with these types of misunderstood grief. In this training\, we will review the body of literature around ambiguous loss and non-finite loss\, helping professionals and grievers alike to define and identify ambiguous loss\, assess the impact on individuals and family systems\, understand the nature of the relational stress of these losses\, and provide techniques for promoting resilience in circumstances of ambiguous and non-death loss. \nLearning Objectives:\n-Define the types of ambiguous loss and assess them impact of ambiguous loss stressors on individuals and family systems.\n-Differentiate other non-death losses\, including non-finite loss and chronic sorrow\, defining overlapping and distinguishing features.\n-Identify therapeutic and psychoeducational interventions to ease the stress of ambiguous loss and provide individual\, family\, and community support for other non-death losses.\n-Discuss the role and limitations of resilience in ambiguous loss and apply evidence-informed techniques for promoting resilience in circumstances of ambiguous and non-death loss. \nRegister here: https://us02web.zoom.us/webinar/register/WN_Rw4ch930Qhqo1K9gip_j4g#/registration
URL:https://good-grief.org/event/community-webinar-ambiguous-grief-and-non-death-loss-with-litsa-williams-of-whats-your-grief/
LOCATION:Online
CATEGORIES:Gg Training
ORGANIZER;CN="Good Grief":MAILTO:info@good-grief.org
END:VEVENT
END:VCALENDAR