BEGIN:VCALENDAR
VERSION:2.0
PRODID:-//Good Grief - ECPv6.15.13//NONSGML v1.0//EN
CALSCALE:GREGORIAN
METHOD:PUBLISH
X-WR-CALNAME:Good Grief
X-ORIGINAL-URL:https://good-grief.org
X-WR-CALDESC:Events for Good Grief
REFRESH-INTERVAL;VALUE=DURATION:PT1H
X-Robots-Tag:noindex
X-PUBLISHED-TTL:PT1H
BEGIN:VTIMEZONE
TZID:America/New_York
BEGIN:DAYLIGHT
TZOFFSETFROM:-0500
TZOFFSETTO:-0400
TZNAME:EDT
DTSTART:20230312T070000
END:DAYLIGHT
BEGIN:STANDARD
TZOFFSETFROM:-0400
TZOFFSETTO:-0500
TZNAME:EST
DTSTART:20231105T060000
END:STANDARD
BEGIN:DAYLIGHT
TZOFFSETFROM:-0500
TZOFFSETTO:-0400
TZNAME:EDT
DTSTART:20240310T070000
END:DAYLIGHT
BEGIN:STANDARD
TZOFFSETFROM:-0400
TZOFFSETTO:-0500
TZNAME:EST
DTSTART:20241103T060000
END:STANDARD
BEGIN:DAYLIGHT
TZOFFSETFROM:-0500
TZOFFSETTO:-0400
TZNAME:EDT
DTSTART:20250309T070000
END:DAYLIGHT
BEGIN:STANDARD
TZOFFSETFROM:-0400
TZOFFSETTO:-0500
TZNAME:EST
DTSTART:20251102T060000
END:STANDARD
END:VTIMEZONE
BEGIN:VEVENT
DTSTART;TZID=America/New_York:20240125T120000
DTEND;TZID=America/New_York:20240125T133000
DTSTAMP:20260422T182307
CREATED:20240529T171842Z
LAST-MODIFIED:20240624T205925Z
UID:6759-1706184000-1706189400@good-grief.org
SUMMARY:Community Webinar: Tapping the Power of Mindfulness to Navigate Stress
DESCRIPTION:Navigating the loss of a spouse\, a parent\, a sibling\, or anyone else in our inner circle creates stress on many levels. Whether expected or unexpected\, a loss can create waves of powerful emotion: shock and denial\, anger and guilt\, sadness and regret. At the same time\, the loss may have a significant impact on our day-to-day lives\, altering family dynamics and parenting roles\, adding new financial and household responsibilities\, and impacting our social relationships and support networks.  \nIt’s not surprising that the loss of a spouse or loved one are ranked among life’s most stressful experiences. In this webinar\, we will explore the power of mindfulness to help us navigate all kinds of stress\, from day-to-day annoyances to the deeper pain of loss. \nParticipants will… \n-understand what mindfulness is and isn’t \n-discuss how mindfulness can help us to respond to stress with greater compassion\, both for ourselves and for others. \n-experience mindfulness practice first-hand. \n-identify strategies for bringing more mindfulness into their own lives. \n-have access to resources to aid in building their own mindfulness practice. \nAll in-person attendees will receive a certificate of attendance. \nDiana Pecina has been practicing mindfulness meditation since 2006\, and has spent more than a month on silent retreat. She has studied meditation and Mindfulness Based Stress Reduction (MBSR) at the Brown University School of Public Health\, the Center for Mindful Self-Compassion\, the Barre School for Buddhist Studies (BCBS)\, and the Insight Meditation Society. Diana currently offers mindfulness workshops to a variety of populations\, including those who are navigating grief and loss. She is also a Support Group Facilitator and Team Coordinator at Good Grief. \nRegister here: \nhttps://us02web.zoom.us/webinar/register/WN_EvuJBF4qSnKueO2tdlICSA#/registration
URL:https://good-grief.org/event/community-webinar-tapping-the-power-of-mindfulness-to-navigate-stress/
LOCATION:Online
CATEGORIES:Gg Training,Gg Training & Webinars
ORGANIZER;CN="Good Grief":MAILTO:info@good-grief.org
END:VEVENT
END:VCALENDAR