BEGIN:VCALENDAR
VERSION:2.0
PRODID:-//Good Grief - ECPv6.15.13//NONSGML v1.0//EN
CALSCALE:GREGORIAN
METHOD:PUBLISH
X-WR-CALNAME:Good Grief
X-ORIGINAL-URL:https://good-grief.org
X-WR-CALDESC:Events for Good Grief
REFRESH-INTERVAL;VALUE=DURATION:PT1H
X-Robots-Tag:noindex
X-PUBLISHED-TTL:PT1H
BEGIN:VTIMEZONE
TZID:America/New_York
BEGIN:DAYLIGHT
TZOFFSETFROM:-0500
TZOFFSETTO:-0400
TZNAME:EDT
DTSTART:20230312T070000
END:DAYLIGHT
BEGIN:STANDARD
TZOFFSETFROM:-0400
TZOFFSETTO:-0500
TZNAME:EST
DTSTART:20231105T060000
END:STANDARD
BEGIN:DAYLIGHT
TZOFFSETFROM:-0500
TZOFFSETTO:-0400
TZNAME:EDT
DTSTART:20240310T070000
END:DAYLIGHT
BEGIN:STANDARD
TZOFFSETFROM:-0400
TZOFFSETTO:-0500
TZNAME:EST
DTSTART:20241103T060000
END:STANDARD
BEGIN:DAYLIGHT
TZOFFSETFROM:-0500
TZOFFSETTO:-0400
TZNAME:EDT
DTSTART:20250309T070000
END:DAYLIGHT
BEGIN:STANDARD
TZOFFSETFROM:-0400
TZOFFSETTO:-0500
TZNAME:EST
DTSTART:20251102T060000
END:STANDARD
END:VTIMEZONE
BEGIN:VEVENT
DTSTART;TZID=America/New_York:20240208T120000
DTEND;TZID=America/New_York:20240208T130000
DTSTAMP:20260422T165127
CREATED:20240529T171842Z
LAST-MODIFIED:20240624T205925Z
UID:6760-1707393600-1707397200@good-grief.org
SUMMARY:Community Webinar: Explorando el dolor y la pérdida
DESCRIPTION:Explorando el dolor y la pérdida \nPerder a un ser querido puede ser abrumador y emocionalmente tenso para las personas y las familias. Las personas pueden experimentar emociones intensas\, como culpa\, tristeza\, confusión y enojo. En consecuencia\, es común que las personas se sientan desconectadas de la persona que falleció. \nDebemos recordar que no nos movemos “adelante” de nuestra pérdida; Nos movemos “hacia adelante”. ¿Qué significa eso? Cuando un ser querido muere\, no olvidamos ni compartimentamos su memoria. \nEn cambio\, lentamente encontramos formas de redefinir nuestra relación con el ser querido que ha muerto\, permitiendo un vínculo continuo con esa persona. \nAnnette Méndez\, nuestra nueva Gerente de Capacitación y Currículo para Good Grief y Good Grief Schools (GGS) aporta una gran experiencia a su función. La experiencia de Annette radica en la realización de capacitaciones sobre temas como el aprendizaje socioemocional\, técnicas de crianza positiva\, liderazgo entre pares y empatía. También se dedica a promover la diversidad\, la equidad y la inclusión en todas sus capacitaciones. Recientemente\, Annette se ha involucrado en la iniciativa Good Grief at Work\, aprendiendo cómo apoyar a otras organizaciones y corporaciones para que estén más informadas sobre el duelo y el trauma. Annette creció en Nueva Jersey y es la primera generación de graduada de la Universidad Estatal de Montclair. \nhttps://us02web.zoom.us/webinar/register/WN__vuuBwUKTiCtTL8ElaEJSA#/registration
URL:https://good-grief.org/event/community-webinar-explorando-el-dolor-y-la-perdida/
LOCATION:Online
CATEGORIES:Gg Training,Gg Training & Webinars
ORGANIZER;CN="Good Grief":MAILTO:info@good-grief.org
END:VEVENT
BEGIN:VEVENT
DTSTART;TZID=America/New_York:20240217T090000
DTEND;TZID=America/New_York:20240219T170000
DTSTAMP:20260422T165127
CREATED:20240529T171842Z
LAST-MODIFIED:20240624T205722Z
UID:6762-1708160400-1708362000@good-grief.org
SUMMARY:Volunteer Facilitator Training
DESCRIPTION:Volunteer Facilitators make all the difference by creating a safe and caring environment where children\, teens\, and families can express themselves\, care for each other\, and rebuild their lives together. \nOur facilitators listen without judgment or criticism and offer hope by building an understanding community. \nThe comprehensive training is an engaging experience that develops skills\, reframes ideas about death and bereavement\, explores the complexity of the grieving process and variables that impact grief\, and provides a personally transformative experience. \n100% of our 250+ facilitators agree they would “highly recommend” our training to others. \nFor more info please contact Kim Burrows at kim@good-grief.org
URL:https://good-grief.org/event/volunteer-facilitator-training-2/
LOCATION:Good Grief Morristown\, 38 Elm Street\, Morristown\, NJ\, 07960\, United States
CATEGORIES:Gg Training,Gg Volunteer Facilitator Training
ORGANIZER;CN="Kim":MAILTO:kim@good-grief.org
END:VEVENT
END:VCALENDAR