BEGIN:VCALENDAR
VERSION:2.0
PRODID:-//Good Grief - ECPv6.15.13//NONSGML v1.0//EN
CALSCALE:GREGORIAN
METHOD:PUBLISH
X-WR-CALNAME:Good Grief
X-ORIGINAL-URL:https://good-grief.org
X-WR-CALDESC:Events for Good Grief
REFRESH-INTERVAL;VALUE=DURATION:PT1H
X-Robots-Tag:noindex
X-PUBLISHED-TTL:PT1H
BEGIN:VTIMEZONE
TZID:America/New_York
BEGIN:DAYLIGHT
TZOFFSETFROM:-0500
TZOFFSETTO:-0400
TZNAME:EDT
DTSTART:20230312T070000
END:DAYLIGHT
BEGIN:STANDARD
TZOFFSETFROM:-0400
TZOFFSETTO:-0500
TZNAME:EST
DTSTART:20231105T060000
END:STANDARD
BEGIN:DAYLIGHT
TZOFFSETFROM:-0500
TZOFFSETTO:-0400
TZNAME:EDT
DTSTART:20240310T070000
END:DAYLIGHT
BEGIN:STANDARD
TZOFFSETFROM:-0400
TZOFFSETTO:-0500
TZNAME:EST
DTSTART:20241103T060000
END:STANDARD
BEGIN:DAYLIGHT
TZOFFSETFROM:-0500
TZOFFSETTO:-0400
TZNAME:EDT
DTSTART:20250309T070000
END:DAYLIGHT
BEGIN:STANDARD
TZOFFSETFROM:-0400
TZOFFSETTO:-0500
TZNAME:EST
DTSTART:20251102T060000
END:STANDARD
END:VTIMEZONE
BEGIN:VEVENT
DTSTART;TZID=America/New_York:20240408T120000
DTEND;TZID=America/New_York:20240408T133000
DTSTAMP:20260422T135825
CREATED:20240529T171849Z
LAST-MODIFIED:20240624T205925Z
UID:6779-1712577600-1712583000@good-grief.org
SUMMARY:Community Webinar Songs of Solace: A Guide to Coping with Grief Through Music
DESCRIPTION:Music is an emotional and social connector for all humans. Listening to and/or playing music can bring up memories and feelings even when we don’t expect it. \nThis presentation will offer suggestions and guidelines for utilizing music for coping with grief in responsible and intentional ways. \nEducation will be provided regarding music therapy and its role in processing grief. \nRegister today: https://us02web.zoom.us/webinar/register/WN_LXvUdFx0QZeIg7q1Gi07tw
URL:https://good-grief.org/event/community-webinar-songs-of-solace-a-guide-to-coping-with-grief-through-music/
LOCATION:Online
CATEGORIES:Gg Training,Gg Training & Webinars
ORGANIZER;CN="Good Grief":MAILTO:info@good-grief.org
END:VEVENT
BEGIN:VEVENT
DTSTART;TZID=America/New_York:20240426T090000
DTEND;TZID=America/New_York:20240428T170000
DTSTAMP:20260422T135825
CREATED:20240529T171842Z
LAST-MODIFIED:20240624T205722Z
UID:6763-1714122000-1714323600@good-grief.org
SUMMARY:Volunteer Facilitator Training
DESCRIPTION:Volunteer Facilitators make all the difference by creating a safe and caring environment where children\, teens\, and families can express themselves\, care for each other\, and rebuild their lives together. \nOur facilitators listen without judgment or criticism and offer hope by building an understanding community. \nThe comprehensive training is an engaging experience that develops skills\, reframes ideas about death and bereavement\, explores the complexity of the grieving process and variables that impact grief\, and provides a personally transformative experience. \n100% of our 250+ facilitators agree they would “highly recommend” our training to others. \nFor more info please contact Kim Burrows at kim@good-grief.org
URL:https://good-grief.org/event/volunteer-facilitator-training-3/
LOCATION:Good Grief Princeton\, 5 Mapleton Road\, Princeton\, NJ\, 08540\, United States
CATEGORIES:Gg Training,Gg Volunteer Facilitator Training
ORGANIZER;CN="Good Grief":MAILTO:info@good-grief.org
END:VEVENT
END:VCALENDAR