BEGIN:VCALENDAR
VERSION:2.0
PRODID:-//Good Grief - ECPv6.15.13//NONSGML v1.0//EN
CALSCALE:GREGORIAN
METHOD:PUBLISH
X-WR-CALNAME:Good Grief
X-ORIGINAL-URL:https://good-grief.org
X-WR-CALDESC:Events for Good Grief
REFRESH-INTERVAL;VALUE=DURATION:PT1H
X-Robots-Tag:noindex
X-PUBLISHED-TTL:PT1H
BEGIN:VTIMEZONE
TZID:America/New_York
BEGIN:DAYLIGHT
TZOFFSETFROM:-0500
TZOFFSETTO:-0400
TZNAME:EDT
DTSTART:20230312T070000
END:DAYLIGHT
BEGIN:STANDARD
TZOFFSETFROM:-0400
TZOFFSETTO:-0500
TZNAME:EST
DTSTART:20231105T060000
END:STANDARD
BEGIN:DAYLIGHT
TZOFFSETFROM:-0500
TZOFFSETTO:-0400
TZNAME:EDT
DTSTART:20240310T070000
END:DAYLIGHT
BEGIN:STANDARD
TZOFFSETFROM:-0400
TZOFFSETTO:-0500
TZNAME:EST
DTSTART:20241103T060000
END:STANDARD
BEGIN:DAYLIGHT
TZOFFSETFROM:-0500
TZOFFSETTO:-0400
TZNAME:EDT
DTSTART:20250309T070000
END:DAYLIGHT
BEGIN:STANDARD
TZOFFSETFROM:-0400
TZOFFSETTO:-0500
TZNAME:EST
DTSTART:20251102T060000
END:STANDARD
END:VTIMEZONE
BEGIN:VEVENT
DTSTART;TZID=America/New_York:20241212T120000
DTEND;TZID=America/New_York:20241212T130000
DTSTAMP:20260420T033617
CREATED:20241024T141233Z
LAST-MODIFIED:20241024T155235Z
UID:7892-1734004800-1734008400@good-grief.org
SUMMARY:Seminario Web Gratuito: Abrazando Recuerdos: Llorando la Pérdida de un Abuelo(a)
DESCRIPTION:Presentadora: Faride Hernández \nEn este seminario web intentaremos comprender el duelo dentro de la comunidad latina.  Discutiremos rituales y tradiciones para honrar a los abuelos y formas de apoyar a los niños y adolescentes durante este proceso de duelo único. \nEl propósito es brindar un espacio de apoyo para personas y familias que atraviesan las complejas emociones asociadas con la pérdida de un abuelo en los hogares latinos. Esta sesión tiene como objetivo explorar la importancia cultural de los abuelos\, los procesos de duelo únicos influenciados por la tradición y la importancia del apoyo comunitario y familiar durante momentos de pérdida. Los participantes aprenderán estrategias de afrontamiento\, discutirán rituales que honran a sus seres queridos y descubrirán formas de facilitar conversaciones abiertas sobre el duelo entre diferentes generaciones. En última instancia\, el objetivo es fomentar la resiliencia\, promover la curación y celebrar los recuerdos preciados de los abuelos\, reconociendo al mismo tiempo el profundo impacto de su pérdida en las familias. \n  \nFaride Hernández \nSupervisora ​​de orientación universitaria\, profesional y personal\, grados 9 a 12 en Piscataway High School \nFaride Hernández tiene casi dos décadas de experiencia profesional en educación sirviendo como Subdirectora de Admisiones Internacionales\, Consejera de Inscripción en Educación Superior\, Consejera de Escuela Secundaria\, Decana de Estudiantes y\, más recientemente\, como Supervisora ​​de Orientación Universitaria\, Profesional y Personal. Con una licenciatura en inglés y un posgrado en consejería y educación bilingüe\, la Sra. Hernández comprende el valor de tener programación disponible para las comunidades a las que servimos. \nhttps://us02web.zoom.us/webinar/register/WN_N-eblz5SRiOW1voC_PTC9A#/registration
URL:https://good-grief.org/event/seminario-web-gratuito-abrazando-recuerdos-llorando-la-perdida-de-un-abueloa/
LOCATION:Online
CATEGORIES:Gg Events,Gg Training & Webinars
ATTACH;FMTTYPE=image/jpeg:https://good-grief.org/wp-content/uploads/Gg_Webinar-Ads_Fall-2024_Dec12_Website-1.jpg
ORGANIZER;CN="Good Grief":MAILTO:info@good-grief.org
END:VEVENT
END:VCALENDAR