BEGIN:VCALENDAR
VERSION:2.0
PRODID:-//Good Grief - ECPv6.15.13//NONSGML v1.0//EN
CALSCALE:GREGORIAN
METHOD:PUBLISH
X-WR-CALNAME:Good Grief
X-ORIGINAL-URL:https://good-grief.org
X-WR-CALDESC:Events for Good Grief
REFRESH-INTERVAL;VALUE=DURATION:PT1H
X-Robots-Tag:noindex
X-PUBLISHED-TTL:PT1H
BEGIN:VTIMEZONE
TZID:America/New_York
BEGIN:DAYLIGHT
TZOFFSETFROM:-0500
TZOFFSETTO:-0400
TZNAME:EDT
DTSTART:20240310T070000
END:DAYLIGHT
BEGIN:STANDARD
TZOFFSETFROM:-0400
TZOFFSETTO:-0500
TZNAME:EST
DTSTART:20241103T060000
END:STANDARD
BEGIN:DAYLIGHT
TZOFFSETFROM:-0500
TZOFFSETTO:-0400
TZNAME:EDT
DTSTART:20250309T070000
END:DAYLIGHT
BEGIN:STANDARD
TZOFFSETFROM:-0400
TZOFFSETTO:-0500
TZNAME:EST
DTSTART:20251102T060000
END:STANDARD
BEGIN:DAYLIGHT
TZOFFSETFROM:-0500
TZOFFSETTO:-0400
TZNAME:EDT
DTSTART:20260308T070000
END:DAYLIGHT
BEGIN:STANDARD
TZOFFSETFROM:-0400
TZOFFSETTO:-0500
TZNAME:EST
DTSTART:20261101T060000
END:STANDARD
END:VTIMEZONE
BEGIN:VEVENT
DTSTART;TZID=America/New_York:20250116T120000
DTEND;TZID=America/New_York:20250116T130000
DTSTAMP:20260418T112419
CREATED:20250107T231032Z
LAST-MODIFIED:20250108T181600Z
UID:7964-1737028800-1737032400@good-grief.org
SUMMARY:Free Webinar: Providing and Receiving Support in Grief: The What\, Why\, and How
DESCRIPTION:Presenter: Dr. Mrittika Sen \nHave you ever wondered how to truly support a grieving loved one? Or perhaps\, how to find the right kind of support for yourself? Our upcoming webinar\, “Providing and Receiving Support in Grief: The What\, Why\, and How” with Dr. Mrittika Sen\, is here to help. \nDr. Sen combines academic research with deeply personal experience as a bereaved mother. After losing her infant daughter in 2013\, she found support through Good Grief’s programs. Now\, as Head of Research and Evaluation at Good Grief\, she’s sharing her expertise to help others better understand the nuanced dynamics of grief support. \nIn this webinar\, you’ll learn:\n• Research-backed insights into the “what\, why\, and how” of support in grief\n• How mismatched expectations can impact the support process\n• Tools to foster understanding and connection in times of loss \nGrief is universal\, but support is not always easy to navigate; let’s learn how\, together. \nDr. Mrittika Sen is Head of Research and Evaluation at Good Grief. She is a subject matter expert in social psychology\, interpersonal support and communication in crisis situations\, and persuasion. Dr. Sen’s nearly twenty years of research\, development\, and communication experience spans the nonprofit\, higher education\, media\, and publishing industries in India\, Egypt\, and the United States. At Good Grief\, Dr. Sen employs her research skills to update programs and training and executes on an end-to-end evaluation initiative. Her recent work includes developing surveys as well as conducting one-on-one interviews with close to 30 participants. Dr. Sen develops and disseminates thought leadership through her writing and lectures on support in bereavement\, empathy\, perspective-taking\, and effective communication. Mrittika is a bereaved mother who lost her infant daughter in sleep in 2013 to unknown causes. Her son was three at the time\, and the family had moved to New Jersey just four days ago. Her family participated in Good Grief’s Nights of Support program from 2014 until 2017. Mrittika\, enrolled full-time in a doctoral program at Northwestern University when her daughter died\, and completed her PhD in 2017. Her son\, now 14\, returned as a Good Grief participant from 2022 until 2024. \nRegistration Link:\nhttps://us02web.zoom.us/webinar/register/WN_zpAbh2UQRp2NZJGzQhiVvQhttps://us02web.zoom.us/webinar/register/WN_CE5xj79eSwmvP5sdjfI3Wg
URL:https://good-grief.org/event/free-webinar-providing-and-receiving-support-in-grief-the-what-why-and-how/
LOCATION:Online
CATEGORIES:Gg Events,Gg Training & Webinars
ATTACH;FMTTYPE=image/jpeg:https://good-grief.org/wp-content/uploads/FB_Gg_Webinar-Ads_Winter-Spring-2025_Jan.jpg
ORGANIZER;CN="Good Grief":MAILTO:info@good-grief.org
END:VEVENT
END:VCALENDAR