BEGIN:VCALENDAR
VERSION:2.0
PRODID:-//Good Grief - ECPv6.15.13//NONSGML v1.0//EN
CALSCALE:GREGORIAN
METHOD:PUBLISH
X-WR-CALNAME:Good Grief
X-ORIGINAL-URL:https://good-grief.org
X-WR-CALDESC:Events for Good Grief
REFRESH-INTERVAL;VALUE=DURATION:PT1H
X-Robots-Tag:noindex
X-PUBLISHED-TTL:PT1H
BEGIN:VTIMEZONE
TZID:America/New_York
BEGIN:DAYLIGHT
TZOFFSETFROM:-0500
TZOFFSETTO:-0400
TZNAME:EDT
DTSTART:20240310T070000
END:DAYLIGHT
BEGIN:STANDARD
TZOFFSETFROM:-0400
TZOFFSETTO:-0500
TZNAME:EST
DTSTART:20241103T060000
END:STANDARD
BEGIN:DAYLIGHT
TZOFFSETFROM:-0500
TZOFFSETTO:-0400
TZNAME:EDT
DTSTART:20250309T070000
END:DAYLIGHT
BEGIN:STANDARD
TZOFFSETFROM:-0400
TZOFFSETTO:-0500
TZNAME:EST
DTSTART:20251102T060000
END:STANDARD
BEGIN:DAYLIGHT
TZOFFSETFROM:-0500
TZOFFSETTO:-0400
TZNAME:EDT
DTSTART:20260308T070000
END:DAYLIGHT
BEGIN:STANDARD
TZOFFSETFROM:-0400
TZOFFSETTO:-0500
TZNAME:EST
DTSTART:20261101T060000
END:STANDARD
END:VTIMEZONE
BEGIN:VEVENT
DTSTART;TZID=America/New_York:20250327T120000
DTEND;TZID=America/New_York:20250327T130000
DTSTAMP:20260419T235611
CREATED:20250108T194353Z
LAST-MODIFIED:20250115T163609Z
UID:7979-1743076800-1743080400@good-grief.org
SUMMARY:Free Webinar: Glitter-Free Grief: Confronting Toxic Positivity in the Grieving Process
DESCRIPTION:Presenter: Meghan Reese \nThis webinar aims to demystify the concept of toxic positivity\, a phenomenon where positive thinking is used to dismiss or undermine negative (but normal) emotions. By defining and providing examples of toxic positivity\, I will explore its impact on grieving individuals\, including the psychological and social consequences of suppressing our feelings. Meghan’s goal is to educate participants on the importance of experiencing the full spectrum of emotions during the grieving process and to distinguish between healthy support and toxic positivity. \nLearning Objectives: \n1. Define and Identify Toxic Positivity: Participants will be able to articulate the definition of toxic positivity and provide examples of its manifestations in daily life. \n2. Understand Grief and Emotional Acceptance: Participants will describe the stages of grief and explain the importance of embracing and validating all emotions\, including those that are uncomfortable. \n3. Analyze the Impact of Toxic Positivity: Participants will evaluate the harmful effects of toxic positivity\, including its role in emotional suppression and social isolation\, using real-life examples and testimonials. \n4. Recognize Toxic Positivity in Interactions: Participants will practice identifying toxic positivity in conversations and role-play strategies for responding to it in a supportive and empathetic manner. \n5. Implement Healthy Emotional Validation Techniques: Participants will develop practical skills to validate emotions and foster open\, judgment-free dialogues about grief. \n6. Utilize Support Resources: Participants will leave with a curated list of books\, articles\, and support groups to further educate themselves and support grievers effectively. All live attendees will receive a certificate of attendance within 48 hours of the event. \nThis webinar is brought to you free of cost through support from the Lennar Foundation. \nRegistration Link:\nhttps://us02web.zoom.us/webinar/register/WN_zpAbh2UQRp2NZJGzQhiVvQhttps://us02web.zoom.us/webinar/register/WN_CE5xj79eSwmvP5sdjfI3Wghttps://us02web.zoom.us/webinar/register/WN_Kyw_lvuNTuSKossgM7eKgwhttps://us02web.zoom.us/webinar/register/WN_Kyw_lvuNTuSKossgM7eKgw#/registration
URL:https://good-grief.org/event/free-webinar-glitter-free-grief-confronting-toxic-positivity-in-the-grieving-process/
LOCATION:Online
CATEGORIES:Gg Events,Gg Training & Webinars
ATTACH;FMTTYPE=image/jpeg:https://good-grief.org/wp-content/uploads/Gg_Webinar-Ads_Winter-Spring-2025_March_04.jpg
ORGANIZER;CN="Good Grief":MAILTO:info@good-grief.org
END:VEVENT
END:VCALENDAR