BEGIN:VCALENDAR
VERSION:2.0
PRODID:-//Good Grief - ECPv6.15.13//NONSGML v1.0//EN
CALSCALE:GREGORIAN
METHOD:PUBLISH
X-WR-CALNAME:Good Grief
X-ORIGINAL-URL:https://good-grief.org
X-WR-CALDESC:Events for Good Grief
REFRESH-INTERVAL;VALUE=DURATION:PT1H
X-Robots-Tag:noindex
X-PUBLISHED-TTL:PT1H
BEGIN:VTIMEZONE
TZID:America/New_York
BEGIN:DAYLIGHT
TZOFFSETFROM:-0500
TZOFFSETTO:-0400
TZNAME:EDT
DTSTART:20240310T070000
END:DAYLIGHT
BEGIN:STANDARD
TZOFFSETFROM:-0400
TZOFFSETTO:-0500
TZNAME:EST
DTSTART:20241103T060000
END:STANDARD
BEGIN:DAYLIGHT
TZOFFSETFROM:-0500
TZOFFSETTO:-0400
TZNAME:EDT
DTSTART:20250309T070000
END:DAYLIGHT
BEGIN:STANDARD
TZOFFSETFROM:-0400
TZOFFSETTO:-0500
TZNAME:EST
DTSTART:20251102T060000
END:STANDARD
BEGIN:DAYLIGHT
TZOFFSETFROM:-0500
TZOFFSETTO:-0400
TZNAME:EDT
DTSTART:20260308T070000
END:DAYLIGHT
BEGIN:STANDARD
TZOFFSETFROM:-0400
TZOFFSETTO:-0500
TZNAME:EST
DTSTART:20261101T060000
END:STANDARD
END:VTIMEZONE
BEGIN:VEVENT
DTSTART;VALUE=DATE:20250502
DTEND;VALUE=DATE:20250505
DTSTAMP:20260419T212431
CREATED:20250228T204530Z
LAST-MODIFIED:20250228T204530Z
UID:8067-1746144000-1746403199@good-grief.org
SUMMARY:Volunteer Facilitator Training | May 2–4\, 2025
DESCRIPTION:Volunteer Facilitators make all the difference by creating a safe and caring environment where children\, teens\, and families can express themselves\, care for each other\, and rebuild their lives together. \nOur facilitators listen without judgment or criticism and offer hope by building an understanding community. \nThe comprehensive training is an engaging experience that develops skills\, reframes ideas about death and bereavement\, explores the complexity of the grieving process and variables that impact grief\, and provides a personally transformative experience. \n100% of our 250+ facilitators agree they would “highly recommend” our training to others. \nFor more info please contact Kim Burrows at kim@good-grief.org
URL:https://good-grief.org/event/volunteer-facilitator-training-may-2-4-2025/
LOCATION:Good Grief Princeton\, 5 Mapleton Road\, Princeton\, NJ\, 08540\, United States
CATEGORIES:Gg Training,Gg Volunteer Facilitator Training
ORGANIZER;CN="Kim":MAILTO:kim@good-grief.org
END:VEVENT
BEGIN:VEVENT
DTSTART;TZID=America/New_York:20250515T120000
DTEND;TZID=America/New_York:20250515T130000
DTSTAMP:20260419T212431
CREATED:20250407T142736Z
LAST-MODIFIED:20250408T134154Z
UID:8095-1747310400-1747314000@good-grief.org
SUMMARY:Free Webinar: Empowering Latino Mental Health Providers
DESCRIPTION:Presenters: Debra Pacheco\, M.A. and Michelle Castruita\, MSW\, LSW \n\n\n\n\n\n\n\n\n\nDebra Pacheco\, M.A\, PsyD Student\, Counseling Psychology\, Saint Elizabeth University \nDebra is a third-year doctoral student in the Counseling Psychology program at Saint Elizabeth University. She specializes in working with children\, with a research focus on ADHD within the Latinx community. \nMichelle Castruita\, MSW\, LSW \nMichelle is a dedicated social worker committed to supporting individuals through life’s challenges and fostering resilience in diverse communities. With experience in grief support\, case management\, and psychoeducation\, they have built a strong foundation in advocacy and direct service. \nPreviously\, they worked at a Latinx-focused nonprofit\, providing case management\, collaborating with interdisciplinary teams\, and leading a psychoeducational group for young Latinas focused on college and career readiness as well as mental health awareness. \nMichelle is passionate about empowerment\, equity\, and mental well-being. \n\n\n\n\n\n\n\n\n\n\n\n\n\n\n\n\nThis webinar is brought to you free of cost through support from the Lennar Foundation. \nRegistration Link:\nhttps://us02web.zoom.us/webinar/register/WN_UYdgVQEMQAa-W5yS1VCNTQ#/registrationhttps://us02web.zoom.us/webinar/register/WN_UYdgVQEMQAa-W5yS1VCNTQ#/registrationhttps://us02web.zoom.us/webinar/register/WN_zpAbh2UQRp2NZJGzQhiVvQhttps://us02web.zoom.us/webinar/register/WN_CE5xj79eSwmvP5sdjfI3Wghttps://us02web.zoom.us/webinar/register/WN_Kyw_lvuNTuSKossgM7eKgwhttps://us02web.zoom.us/webinar/register/WN_Kyw_lvuNTuSKossgM7eKgw#/registration
URL:https://good-grief.org/event/free-webinar-empowering-latino-mental-health-providers/
LOCATION:Online
CATEGORIES:Gg Events,Gg Training & Webinars
ATTACH;FMTTYPE=image/jpeg:https://good-grief.org/wp-content/uploads/Gg_Webinar-Ads_Winter-Spring-2025_May.jpg
ORGANIZER;CN="Good Grief":MAILTO:info@good-grief.org
END:VEVENT
END:VCALENDAR