BEGIN:VCALENDAR
VERSION:2.0
PRODID:-//Good Grief - ECPv6.15.13//NONSGML v1.0//EN
CALSCALE:GREGORIAN
METHOD:PUBLISH
X-WR-CALNAME:Good Grief
X-ORIGINAL-URL:https://good-grief.org
X-WR-CALDESC:Events for Good Grief
REFRESH-INTERVAL;VALUE=DURATION:PT1H
X-Robots-Tag:noindex
X-PUBLISHED-TTL:PT1H
BEGIN:VTIMEZONE
TZID:America/New_York
BEGIN:DAYLIGHT
TZOFFSETFROM:-0500
TZOFFSETTO:-0400
TZNAME:EDT
DTSTART:20250309T070000
END:DAYLIGHT
BEGIN:STANDARD
TZOFFSETFROM:-0400
TZOFFSETTO:-0500
TZNAME:EST
DTSTART:20251102T060000
END:STANDARD
BEGIN:DAYLIGHT
TZOFFSETFROM:-0500
TZOFFSETTO:-0400
TZNAME:EDT
DTSTART:20260308T070000
END:DAYLIGHT
BEGIN:STANDARD
TZOFFSETFROM:-0400
TZOFFSETTO:-0500
TZNAME:EST
DTSTART:20261101T060000
END:STANDARD
BEGIN:DAYLIGHT
TZOFFSETFROM:-0500
TZOFFSETTO:-0400
TZNAME:EDT
DTSTART:20270314T070000
END:DAYLIGHT
BEGIN:STANDARD
TZOFFSETFROM:-0400
TZOFFSETTO:-0500
TZNAME:EST
DTSTART:20271107T060000
END:STANDARD
END:VTIMEZONE
BEGIN:VEVENT
DTSTART;TZID=America/New_York:20260326T120000
DTEND;TZID=America/New_York:20260326T130000
DTSTAMP:20260419T084918
CREATED:20260115T162422Z
LAST-MODIFIED:20260212T015904Z
UID:8464-1774526400-1774530000@good-grief.org
SUMMARY:Free Webinar: Caring for the Caregiver: Self-Care in Grief Support
DESCRIPTION:Presenter: Gina Kornfeind \nSpring brings a wave of transitions in schools—testing season\, high school and college acceptances\, promotion ceremonies\, prom\, graduations\, schedule changes\, and shifting routines. For grieving students\, these milestones can intensify emotions and disrupt regulation. This webinar equips school staff and youth-serving professionals with practical\, developmentally informed tools to support grieving young people during these high-stress\, high-transition months. \nGina Kornfeind (she/her) is the Community Outreach and Training Manager at Good Grief and facilitates three support groups at the Princeton Center: Spousal Loss\, Child Loss\, and Caregiver support for those raising grandchildren\, nieces\, and nephews. She spent 30 years as a hospital-based Pediatric Palliative Care and Bereavement Social Worker and is a strong advocate for creating opportunities for post-traumatic growth. Gina is a mother of four daughters\, a native Californian and recent (and very happy) transplant to New Jersey\, and holds dual master’s degrees in Social Work and Early Childhood Special Education. A former collegiate volleyball player\, she enjoys watching all sports (especially the Dodgers)\, loves to bake and hike\, appreciates time by the water\, and cherishes the affection of her two Golden Retrievers\, Reilly and Clover. \nRegistration Link:\nhttps://us02web.zoom.us/webinar/register/WN_zpAbh2UQRp2NZJGzQhiVvQhttps://us02web.zoom.us/webinar/register/WN_LxOB2mwAS2WVx69tCavV3A#/registration
URL:https://good-grief.org/event/free-webinar-caring-for-the-caregiver-supporting-yourself-while-supporting-a-grieving-loved-one/
LOCATION:Online
CATEGORIES:Gg Events,Gg Training & Webinars
ATTACH;FMTTYPE=image/jpeg:https://good-grief.org/wp-content/uploads/Gg_Webinar-Posts_Winter-2026_March26.jpg
ORGANIZER;CN="Good Grief":MAILTO:info@good-grief.org
END:VEVENT
END:VCALENDAR