BEGIN:VCALENDAR
VERSION:2.0
PRODID:-//Good Grief - ECPv6.15.13//NONSGML v1.0//EN
CALSCALE:GREGORIAN
METHOD:PUBLISH
X-WR-CALNAME:Good Grief
X-ORIGINAL-URL:https://good-grief.org
X-WR-CALDESC:Events for Good Grief
REFRESH-INTERVAL;VALUE=DURATION:PT1H
X-Robots-Tag:noindex
X-PUBLISHED-TTL:PT1H
BEGIN:VTIMEZONE
TZID:America/New_York
BEGIN:DAYLIGHT
TZOFFSETFROM:-0500
TZOFFSETTO:-0400
TZNAME:EDT
DTSTART:20240310T070000
END:DAYLIGHT
BEGIN:STANDARD
TZOFFSETFROM:-0400
TZOFFSETTO:-0500
TZNAME:EST
DTSTART:20241103T060000
END:STANDARD
BEGIN:DAYLIGHT
TZOFFSETFROM:-0500
TZOFFSETTO:-0400
TZNAME:EDT
DTSTART:20250309T070000
END:DAYLIGHT
BEGIN:STANDARD
TZOFFSETFROM:-0400
TZOFFSETTO:-0500
TZNAME:EST
DTSTART:20251102T060000
END:STANDARD
BEGIN:DAYLIGHT
TZOFFSETFROM:-0500
TZOFFSETTO:-0400
TZNAME:EDT
DTSTART:20260308T070000
END:DAYLIGHT
BEGIN:STANDARD
TZOFFSETFROM:-0400
TZOFFSETTO:-0500
TZNAME:EST
DTSTART:20261101T060000
END:STANDARD
END:VTIMEZONE
BEGIN:VEVENT
DTSTART;TZID=America/New_York:20250424T120000
DTEND;TZID=America/New_York:20250424T130000
DTSTAMP:20260419T235743
CREATED:20250318T212608Z
LAST-MODIFIED:20250327T205342Z
UID:8078-1745496000-1745499600@good-grief.org
SUMMARY:Free Webinar: The Kintsugi Path to Transformation
DESCRIPTION:Presenter: Beatrice Anduze-Faris \nA medical doctor by training in France\, Beatrice Anduze-Faris\, a.k.a. Dr. B\, has spent years at the bedside of people living with HIV/AIDS and cancer—holding hands with the dying and counseling survivors. A survivor of childhood trauma herself\, she has thrived despite the odds\, continuously building new dreams: moving to the United States\, becoming a pilot\, becoming a mother\, becoming an executive leader\, and becoming an entrepreneur. Today\, she helps people who have survived life-altering experiences get back on track and find their path to new opportunities. \nIn this interactive workshop\, you will reflect on how life-altering events affect us—sometimes in the long term—and how they shape our lives in ways we may not always recognize \nThis webinar is brought to you free of cost through support from the Lennar Foundation. \nRegistration Link:\nhttps://us02web.zoom.us/webinar/register/WN_UYdgVQEMQAa-W5yS1VCNTQ#/registrationhttps://us02web.zoom.us/webinar/register/WN_UYdgVQEMQAa-W5yS1VCNTQ#/registrationhttps://us02web.zoom.us/webinar/register/WN_zpAbh2UQRp2NZJGzQhiVvQhttps://us02web.zoom.us/webinar/register/WN_CE5xj79eSwmvP5sdjfI3Wghttps://us02web.zoom.us/webinar/register/WN_Kyw_lvuNTuSKossgM7eKgwhttps://us02web.zoom.us/webinar/register/WN_Kyw_lvuNTuSKossgM7eKgw#/registration
URL:https://good-grief.org/event/free-webinar-the-kintsugi-path-to-transformation/
LOCATION:Online
CATEGORIES:Gg Events,Gg Training & Webinars
ATTACH;FMTTYPE=image/jpeg:https://good-grief.org/wp-content/uploads/1080_Gg_Webinar-Ads_Winter-Spring-2025_April.jpg
ORGANIZER;CN="Good Grief":MAILTO:info@good-grief.org
END:VEVENT
END:VCALENDAR