BEGIN:VCALENDAR
VERSION:2.0
PRODID:-//Good Grief - ECPv6.15.13//NONSGML v1.0//EN
CALSCALE:GREGORIAN
METHOD:PUBLISH
X-WR-CALNAME:Good Grief
X-ORIGINAL-URL:https://good-grief.org
X-WR-CALDESC:Events for Good Grief
REFRESH-INTERVAL;VALUE=DURATION:PT1H
X-Robots-Tag:noindex
X-PUBLISHED-TTL:PT1H
BEGIN:VTIMEZONE
TZID:America/New_York
BEGIN:DAYLIGHT
TZOFFSETFROM:-0500
TZOFFSETTO:-0400
TZNAME:EDT
DTSTART:20240310T070000
END:DAYLIGHT
BEGIN:STANDARD
TZOFFSETFROM:-0400
TZOFFSETTO:-0500
TZNAME:EST
DTSTART:20241103T060000
END:STANDARD
BEGIN:DAYLIGHT
TZOFFSETFROM:-0500
TZOFFSETTO:-0400
TZNAME:EDT
DTSTART:20250309T070000
END:DAYLIGHT
BEGIN:STANDARD
TZOFFSETFROM:-0400
TZOFFSETTO:-0500
TZNAME:EST
DTSTART:20251102T060000
END:STANDARD
BEGIN:DAYLIGHT
TZOFFSETFROM:-0500
TZOFFSETTO:-0400
TZNAME:EDT
DTSTART:20260308T070000
END:DAYLIGHT
BEGIN:STANDARD
TZOFFSETFROM:-0400
TZOFFSETTO:-0500
TZNAME:EST
DTSTART:20261101T060000
END:STANDARD
END:VTIMEZONE
BEGIN:VEVENT
DTSTART;TZID=America/New_York:20250918T120000
DTEND;TZID=America/New_York:20250918T130000
DTSTAMP:20260419T172505
CREATED:20250909T044224Z
LAST-MODIFIED:20250909T044224Z
UID:8294-1758196800-1758200400@good-grief.org
SUMMARY:Free Webinar: The Gift of Life
DESCRIPTION:Presenter: Chris Lowicki\, Community Services Specialist at the NJ Sharing Network \n\n\n\n\n\n\n\n\nChris Lowicki is a Community Services Specialist at the NJ Sharing Network\, where he has worked for over a year. Through his position\, Chris travels the state spreading awareness and advocating for Organ and Tissue donation. Chris has nearly 4 years of experience advocating on a state level for various causes\, including the business community\, the military\, and Organ and Tissue Donation. \n\n\n\n\n\n\n\n\nThis webinar is brought to you free of cost through support from the Lennar Foundation. \nRegistration Link:\nhttps://us02web.zoom.us/webinar/register/WN_HpZqeadISA-RBMZFn2Izqw#/registration
URL:https://good-grief.org/event/free-webinar-the-gift-of-life/
LOCATION:Online
CATEGORIES:Gg Events,Gg Training & Webinars
ATTACH;FMTTYPE=image/jpeg:https://good-grief.org/wp-content/uploads/Gg_Webinar-Posts_Fall-2025_Sept18.jpg
ORGANIZER;CN="Good Grief":MAILTO:info@good-grief.org
END:VEVENT
END:VCALENDAR