BEGIN:VCALENDAR
VERSION:2.0
PRODID:-//Good Grief - ECPv6.15.13//NONSGML v1.0//EN
CALSCALE:GREGORIAN
METHOD:PUBLISH
X-WR-CALNAME:Good Grief
X-ORIGINAL-URL:https://good-grief.org
X-WR-CALDESC:Events for Good Grief
REFRESH-INTERVAL;VALUE=DURATION:PT1H
X-Robots-Tag:noindex
X-PUBLISHED-TTL:PT1H
BEGIN:VTIMEZONE
TZID:America/New_York
BEGIN:DAYLIGHT
TZOFFSETFROM:-0500
TZOFFSETTO:-0400
TZNAME:EDT
DTSTART:20240310T070000
END:DAYLIGHT
BEGIN:STANDARD
TZOFFSETFROM:-0400
TZOFFSETTO:-0500
TZNAME:EST
DTSTART:20241103T060000
END:STANDARD
BEGIN:DAYLIGHT
TZOFFSETFROM:-0500
TZOFFSETTO:-0400
TZNAME:EDT
DTSTART:20250309T070000
END:DAYLIGHT
BEGIN:STANDARD
TZOFFSETFROM:-0400
TZOFFSETTO:-0500
TZNAME:EST
DTSTART:20251102T060000
END:STANDARD
BEGIN:DAYLIGHT
TZOFFSETFROM:-0500
TZOFFSETTO:-0400
TZNAME:EDT
DTSTART:20260308T070000
END:DAYLIGHT
BEGIN:STANDARD
TZOFFSETFROM:-0400
TZOFFSETTO:-0500
TZNAME:EST
DTSTART:20261101T060000
END:STANDARD
END:VTIMEZONE
BEGIN:VEVENT
DTSTART;TZID=America/New_York:20251030T120000
DTEND;TZID=America/New_York:20251030T130000
DTSTAMP:20260419T150734
CREATED:20250925T141623Z
LAST-MODIFIED:20250925T141623Z
UID:8300-1761825600-1761829200@good-grief.org
SUMMARY:Free Webinar: Children's Grief Awareness Day—Classroom Activities to Support Students
DESCRIPTION:Presenters: Evelynn Moon and Annette Mendez \nEvery school year\, Good Grief identifies experts to provide our community with webinars on grief\, loss\, and resilience. For more information on Good Grief Schools go to: https://goodgriefschools.org \nJoin Good Grief for our annual Children’s Grief Awareness Day webinar. This year\, we’re excited to introduce new classroom activities inspired by Good Things by Maryah Greene\, created in partnership with Highmark Caring Place. \nDid you know that November is Children’s Grief Awareness Month? And that Children’s Grief Awareness Day falls each year on the Thursday before American Thanksgiving? \nTogether\, we will: \n\nExplore the history and purpose of Children’s Grief Awareness Day. -Share ideas for raising awareness about childhood grief in schools and communities.\nExperience two new classroom activities for grades K-8 and 9-12.\nWalk through accompanying PowerPoints and downloadable resources for easy classroom use.\n\nThis webinar is designed for teachers\, counselors\, administrators\, and community members who want to create supportive spaces for grieving children and teens. All live webinar attendees will receive a certificate of attendance. Follow this link for a resources on grief and loss: https://good-grief.org/resources/ \nAll registrants will receive a link to the recorded webinar\, as well as\, free CGAD lessons\, materials\, and PowerPoints. \nAll live attendees will receive a certificate of attendance. \nEvelynn Moon is the Director of Education for Good Grief\, a nonprofit organization based in New Jersey. Evelynn has worked closely with public health professionals\, educators\, parents\, and caring members of the community to train\, guide\, and support social emotional learning\, building resilience\, and understanding grief and loss. Evelynn works on developing\, facilitating\, and implementing curriculum and programming for the Good Grief Schools initiative\, which seeks to empower the school community to build resilience in students. Evelynn holds a BA from Rutgers and an MA from New York University Steinhardt School of Culture\, Education\, and Human Development. When Evelynn isn’t at work\, she enjoys gardening\, spending time with her husband and daughter\, and working on her podcast. \nAnnette Mendez is the Training and Curriculum Manager for Good Grief and collaborates closely with Evelynn on the implementation and delivery of grief informed workshops to education professionals\, as well as parents and caregivers. She has also worked with many early childhood professionals\, training and providing guidance and support on how to create inclusivity and equity both inside and outside of the classroom. As a former bi-lingual educator\, Annette has a passion for working with and cultivating relationships with educators across districts to ensure they are more grief informed. As part of the Good Grief Schools Initiative team\, she provides workshops and training on how to build resilience in children and help them grow from adversity. Annette holds a BA from Montclair State University in Family and Child Life Studies and a Masters Certification in Developmental Models for Autism Intervention. When Annette is not at work\, she enjoys spending time with her children and her cats\, Salem and Ziggy! \nRegistration Link:\nhttps://us02web.zoom.us/webinar/register/WN_zpAbh2UQRp2NZJGzQhiVvQhttps://us02web.zoom.us/webinar/register/WN_LxOB2mwAS2WVx69tCavV3A#/registration
URL:https://good-grief.org/event/free-webinar-childrens-grief-awareness-day-classroom-activities-to-support-students/
LOCATION:Online
CATEGORIES:Gg Events,Gg Training & Webinars
ATTACH;FMTTYPE=image/jpeg:https://good-grief.org/wp-content/uploads/Gg_Webinar-Posts_Fall-2025_October30.jpg
ORGANIZER;CN="Good Grief":MAILTO:info@good-grief.org
END:VEVENT
END:VCALENDAR