BEGIN:VCALENDAR
VERSION:2.0
PRODID:-//Good Grief - ECPv6.15.13//NONSGML v1.0//EN
CALSCALE:GREGORIAN
METHOD:PUBLISH
X-WR-CALNAME:Good Grief
X-ORIGINAL-URL:https://good-grief.org
X-WR-CALDESC:Events for Good Grief
REFRESH-INTERVAL;VALUE=DURATION:PT1H
X-Robots-Tag:noindex
X-PUBLISHED-TTL:PT1H
BEGIN:VTIMEZONE
TZID:America/New_York
BEGIN:DAYLIGHT
TZOFFSETFROM:-0500
TZOFFSETTO:-0400
TZNAME:EDT
DTSTART:20250309T070000
END:DAYLIGHT
BEGIN:STANDARD
TZOFFSETFROM:-0400
TZOFFSETTO:-0500
TZNAME:EST
DTSTART:20251102T060000
END:STANDARD
BEGIN:DAYLIGHT
TZOFFSETFROM:-0500
TZOFFSETTO:-0400
TZNAME:EDT
DTSTART:20260308T070000
END:DAYLIGHT
BEGIN:STANDARD
TZOFFSETFROM:-0400
TZOFFSETTO:-0500
TZNAME:EST
DTSTART:20261101T060000
END:STANDARD
BEGIN:DAYLIGHT
TZOFFSETFROM:-0500
TZOFFSETTO:-0400
TZNAME:EDT
DTSTART:20270314T070000
END:DAYLIGHT
BEGIN:STANDARD
TZOFFSETFROM:-0400
TZOFFSETTO:-0500
TZNAME:EST
DTSTART:20271107T060000
END:STANDARD
END:VTIMEZONE
BEGIN:VEVENT
DTSTART;TZID=America/New_York:20260501T120000
DTEND;TZID=America/New_York:20260501T130000
DTSTAMP:20260418T023900
CREATED:20260417T134656Z
LAST-MODIFIED:20260417T134656Z
UID:8657-1777636800-1777640400@good-grief.org
SUMMARY:Free Webinar | Beyond Generosity: The Personal and Financial Benefits of Legacy Giving
DESCRIPTION:Discover how planned giving can be both meaningful and strategic. This webinar will walk through practical ways to align your values with your financial goals\, including key insights into tax advantages and long-term planning. Hear from Adriane Berg\, Author\, Speaker & Broadcaster; Holly Hartman\, Senior Tax Manager at Sharp Financial; and Anthony Sytko\, Estate Planning Attorney\, as they share expert guidance to help you make informed decisions for your future. \nRegistration Link:\nhttps://us02web.zoom.us/webinar/register/WN_zpAbh2UQRp2NZJGzQhiVvQhttps://us02web.zoom.us/webinar/register/WN_LxOB2mwAS2WVx69tCavV3A#/registration
URL:https://good-grief.org/event/free-webinar-beyond-generosity-the-personal-and-financial-benefits-of-legacy-giving/
LOCATION:Online
CATEGORIES:Gg Events,Gg Training & Webinars
ATTACH;FMTTYPE=image/jpeg:https://good-grief.org/wp-content/uploads/NewsArt_GG_LunchLearn_Planned-Giving_May-1.jpg
ORGANIZER;CN="Good Grief":MAILTO:info@good-grief.org
END:VEVENT
END:VCALENDAR