BEGIN:VCALENDAR
VERSION:2.0
PRODID:-//Good Grief - ECPv6.15.13//NONSGML v1.0//EN
CALSCALE:GREGORIAN
METHOD:PUBLISH
X-WR-CALNAME:Good Grief
X-ORIGINAL-URL:https://good-grief.org
X-WR-CALDESC:Events for Good Grief
REFRESH-INTERVAL;VALUE=DURATION:PT1H
X-Robots-Tag:noindex
X-PUBLISHED-TTL:PT1H
BEGIN:VTIMEZONE
TZID:America/New_York
BEGIN:DAYLIGHT
TZOFFSETFROM:-0500
TZOFFSETTO:-0400
TZNAME:EDT
DTSTART:20220313T070000
END:DAYLIGHT
BEGIN:STANDARD
TZOFFSETFROM:-0400
TZOFFSETTO:-0500
TZNAME:EST
DTSTART:20221106T060000
END:STANDARD
BEGIN:DAYLIGHT
TZOFFSETFROM:-0500
TZOFFSETTO:-0400
TZNAME:EDT
DTSTART:20230312T070000
END:DAYLIGHT
BEGIN:STANDARD
TZOFFSETFROM:-0400
TZOFFSETTO:-0500
TZNAME:EST
DTSTART:20231105T060000
END:STANDARD
BEGIN:DAYLIGHT
TZOFFSETFROM:-0500
TZOFFSETTO:-0400
TZNAME:EDT
DTSTART:20240310T070000
END:DAYLIGHT
BEGIN:STANDARD
TZOFFSETFROM:-0400
TZOFFSETTO:-0500
TZNAME:EST
DTSTART:20241103T060000
END:STANDARD
END:VTIMEZONE
BEGIN:VEVENT
DTSTART;TZID=America/New_York:20231110T090000
DTEND;TZID=America/New_York:20231112T170000
DTSTAMP:20260422T230415
CREATED:20240529T171842Z
LAST-MODIFIED:20240624T205722Z
UID:6757-1699606800-1699808400@good-grief.org
SUMMARY:Volunteer Facilitator Training: Morristown
DESCRIPTION:Volunteer Facilitators make all the difference by creating a safe and caring environment where children\, teens\, and families can express themselves\, care for each other\, and rebuild their lives together. Our facilitators listen without judgment or criticism and offer hope by building an understanding community. \nThe comprehensive training is an engaging experience that develops skills\, reframes ideas about death and bereavement\, explores the complexity of the grieving process and variables that impact grief\, and provides a personally transformative experience.  100% of our 250+ facilitators agree they would “highly recommend” our training to others. \nFor more info please contact Kim Burrows at kim@good-grief.org
URL:https://good-grief.org/event/volunteer-facilitator-training-morristown-3/
LOCATION:Good Grief Morristown\, 38 Elm Street\, Morristown\, NJ\, 07960\, United States
CATEGORIES:Gg Training,Gg Volunteer Facilitator Training
ORGANIZER;CN="Good Grief":MAILTO:info@good-grief.org
END:VEVENT
END:VCALENDAR